BEGIN:VCALENDAR
VERSION:2.0
PRODID:-//CMV Euphonia Wolvega - ECPv6.15.20//NONSGML v1.0//EN
CALSCALE:GREGORIAN
METHOD:PUBLISH
X-ORIGINAL-URL:https://euphoniawolvega.nl
X-WR-CALDESC:Evenementen voor CMV Euphonia Wolvega
REFRESH-INTERVAL;VALUE=DURATION:PT1H
X-Robots-Tag:noindex
X-PUBLISHED-TTL:PT1H
BEGIN:VTIMEZONE
TZID:Europe/Amsterdam
BEGIN:DAYLIGHT
TZOFFSETFROM:+0100
TZOFFSETTO:+0200
TZNAME:CEST
DTSTART:20200329T010000
END:DAYLIGHT
BEGIN:STANDARD
TZOFFSETFROM:+0200
TZOFFSETTO:+0100
TZNAME:CET
DTSTART:20201025T010000
END:STANDARD
BEGIN:DAYLIGHT
TZOFFSETFROM:+0100
TZOFFSETTO:+0200
TZNAME:CEST
DTSTART:20210328T010000
END:DAYLIGHT
BEGIN:STANDARD
TZOFFSETFROM:+0200
TZOFFSETTO:+0100
TZNAME:CET
DTSTART:20211031T010000
END:STANDARD
BEGIN:DAYLIGHT
TZOFFSETFROM:+0100
TZOFFSETTO:+0200
TZNAME:CEST
DTSTART:20220327T010000
END:DAYLIGHT
BEGIN:STANDARD
TZOFFSETFROM:+0200
TZOFFSETTO:+0100
TZNAME:CET
DTSTART:20221030T010000
END:STANDARD
BEGIN:DAYLIGHT
TZOFFSETFROM:+0100
TZOFFSETTO:+0200
TZNAME:CEST
DTSTART:20230326T010000
END:DAYLIGHT
BEGIN:STANDARD
TZOFFSETFROM:+0200
TZOFFSETTO:+0100
TZNAME:CET
DTSTART:20231029T010000
END:STANDARD
BEGIN:DAYLIGHT
TZOFFSETFROM:+0100
TZOFFSETTO:+0200
TZNAME:CEST
DTSTART:20240331T010000
END:DAYLIGHT
BEGIN:STANDARD
TZOFFSETFROM:+0200
TZOFFSETTO:+0100
TZNAME:CET
DTSTART:20241027T010000
END:STANDARD
BEGIN:DAYLIGHT
TZOFFSETFROM:+0100
TZOFFSETTO:+0200
TZNAME:CEST
DTSTART:20250330T010000
END:DAYLIGHT
BEGIN:STANDARD
TZOFFSETFROM:+0200
TZOFFSETTO:+0100
TZNAME:CET
DTSTART:20251026T010000
END:STANDARD
BEGIN:DAYLIGHT
TZOFFSETFROM:+0100
TZOFFSETTO:+0200
TZNAME:CEST
DTSTART:20260329T010000
END:DAYLIGHT
BEGIN:STANDARD
TZOFFSETFROM:+0200
TZOFFSETTO:+0100
TZNAME:CET
DTSTART:20261025T010000
END:STANDARD
END:VTIMEZONE
BEGIN:VEVENT
DTSTART;TZID=Europe/Amsterdam:20250504T093000
DTEND;TZID=Europe/Amsterdam:20250504T103000
DTSTAMP:20260422T140531
CREATED:20250419T130630Z
LAST-MODIFIED:20250419T130630Z
UID:1281-1746351000-1746354600@euphoniawolvega.nl
SUMMARY:Eredienst op zondag 4 mei
DESCRIPTION:Op zondag 4 mei speelt een ensemble van Euphonia in de eredienst in de Ichthuskerk.
URL:https://euphoniawolvega.nl/agenda/eredienst-op-zondag-4-mei/
LOCATION:Ichtuskerk\, Kerkstraat 49\, Wolvega\, 8471 CE\, Nederland
CATEGORIES:Kerkdienst
END:VEVENT
BEGIN:VEVENT
DTSTART;TZID=Europe/Amsterdam:20250412T080000
DTEND;TZID=Europe/Amsterdam:20250412T180000
DTSTAMP:20260422T140531
CREATED:20250319T081416Z
LAST-MODIFIED:20250323T154528Z
UID:1203-1744444800-1744480800@euphoniawolvega.nl
SUMMARY:B-orkest naar het Gouden Spikerfestival
DESCRIPTION:Vorig jaar heeft het B-orkest drie belangrijke prijzen gewonnen en dat smaakt natuurlijk naar meer! Dit jaar zal het B-orkest dus opnieuw deelnemen\, met als solist Jelle op xylofoon. U bent van harte welkom om ons aan te komen moedigen.
URL:https://euphoniawolvega.nl/agenda/b-orkest-naar-het-gouden-spikerfestival/
LOCATION:MFC de Wier\, De Telle 21\, Urterp\, 9247 BH\, Netherlands
CATEGORIES:Festival
END:VEVENT
BEGIN:VEVENT
DTSTART;TZID=Europe/Amsterdam:20250315T193000
DTEND;TZID=Europe/Amsterdam:20250315T220000
DTSTAMP:20260422T140531
CREATED:20250223T085510Z
LAST-MODIFIED:20250223T085510Z
UID:1192-1742067000-1742076000@euphoniawolvega.nl
SUMMARY:Voorjaarsconcert 2025
DESCRIPTION:U bent van harte welkom om onder het genot van een kopje koffie of thee te komen genieten van de optredens van Euphonia. Het C-orkest\, het B-orkest en het A-orkest presenteren zich\, het belooft een afwisselend programma te worden!
URL:https://euphoniawolvega.nl/agenda/voorjaarsconcert-2025/
LOCATION:Nootgebouw²\, Industrieweg 15J\, Wolvega\, 8471AD\, Nederland
CATEGORIES:Concert
END:VEVENT
BEGIN:VEVENT
DTSTART;TZID=Europe/Amsterdam:20250315T193000
DTEND;TZID=Europe/Amsterdam:20250315T213000
DTSTAMP:20260422T140531
CREATED:20250124T195924Z
LAST-MODIFIED:20250124T195924Z
UID:1146-1742067000-1742074200@euphoniawolvega.nl
SUMMARY:Voorjaarsconcert
DESCRIPTION:Kom in een fris en fruitig schoongemaakt gebouw genieten van mooie muziek\, gebracht door alle orkesten van Euphonia.
URL:https://euphoniawolvega.nl/agenda/voorjaarsconcert-2/
LOCATION:Nootgebouw²\, Industrieweg 15J\, Wolvega\, 8471AD\, Nederland
CATEGORIES:Concert
END:VEVENT
BEGIN:VEVENT
DTSTART;TZID=Europe/Amsterdam:20250214T200000
DTEND;TZID=Europe/Amsterdam:20250214T220000
DTSTAMP:20260422T140531
CREATED:20250124T195552Z
LAST-MODIFIED:20250124T195552Z
UID:1142-1739563200-1739570400@euphoniawolvega.nl
SUMMARY:Valentijnsconcert L'Amour la France
DESCRIPTION:Laat je op Valentijnsdag meenemen op een reis door Parijs\, de stad van de Liefde! Geniet van een zeer afwisselend programma\, gebracht door Katell en Euphonia Wolvega. \n \n 
URL:https://euphoniawolvega.nl/agenda/valentijnsconcert-lamour-la-france/
LOCATION:Rabotheater De Meenthe Steenwijk\, Stationsplein 1\, Steenwijk\, 8331 GM\, Netherlands
CATEGORIES:Concert
END:VEVENT
BEGIN:VEVENT
DTSTART;TZID=Europe/Amsterdam:20241229T153000
DTEND;TZID=Europe/Amsterdam:20241229T160000
DTSTAMP:20260422T140531
CREATED:20241123T182718Z
LAST-MODIFIED:20241123T182718Z
UID:1123-1735486200-1735488000@euphoniawolvega.nl
SUMMARY:Begeleiden uitgang na laatste kerkdienst in de Kerk op de Hoogte
DESCRIPTION:Een ensemble van Euphonia\, bestaande uit leden van zowel het B- als het A-orkest\, zal buiten bij de Kerk op de Hoogte koralen spelen wanneer na de allerlaatste kerkdienst in het Kerkje de laatste zaken overgebracht worden naar de Ichthuskerk.
URL:https://euphoniawolvega.nl/agenda/begeleiden-uitgang-na-laatste-kerkdienst-in-de-kerk-op-de-hoogte/
LOCATION:Theater op de hoogte\, Kerkstraat 7\, Wolvega\, 8471CD
CATEGORIES:Overig
END:VEVENT
BEGIN:VEVENT
DTSTART;TZID=Europe/Amsterdam:20241226T160000
DTEND;TZID=Europe/Amsterdam:20241226T170000
DTSTAMP:20260422T140531
CREATED:20241123T182055Z
LAST-MODIFIED:20241123T182151Z
UID:1114-1735228800-1735232400@euphoniawolvega.nl
SUMMARY:Kerst broodmaaltijd
DESCRIPTION:Een ensemble van het B-orkest zal begeleiden tijdens de kerst broodmaaltijd.
URL:https://euphoniawolvega.nl/agenda/kerst-broodmaaltijd/
LOCATION:Ichtuskerk\, Kerkstraat 49\, Wolvega\, 8471 CE\, Nederland
CATEGORIES:Kerkdienst
END:VEVENT
BEGIN:VEVENT
DTSTART;TZID=Europe/Amsterdam:20241225T100000
DTEND;TZID=Europe/Amsterdam:20241225T113000
DTSTAMP:20260422T140531
CREATED:20241203T200932Z
LAST-MODIFIED:20241203T200932Z
UID:1132-1735120800-1735126200@euphoniawolvega.nl
SUMMARY:Kerkdienst 1e kerstdag Steggerda
DESCRIPTION:Op 1e kerstdag zal Euphonia B samen met Crescendo Steggerda spelen tijdens de ochtenddienst.
URL:https://euphoniawolvega.nl/agenda/kerkdienst-1e-kerstdag-steggerda/
LOCATION:Kerk Steggerda\, Steggerdaweg 35\, Steggerda
CATEGORIES:Kerkdienst
END:VEVENT
BEGIN:VEVENT
DTSTART;TZID=Europe/Amsterdam:20241225T093000
DTEND;TZID=Europe/Amsterdam:20241225T103000
DTSTAMP:20260422T140531
CREATED:20241123T181337Z
LAST-MODIFIED:20241123T181936Z
UID:1116-1735119000-1735122600@euphoniawolvega.nl
SUMMARY:Kerkdienst 1e kerstdag Wolvega
DESCRIPTION:Een ensemble van het A-orkest zal tijdens de dienst om 9.30 uur spelen.
URL:https://euphoniawolvega.nl/agenda/kerkdienst-eerste-kerstdag/
LOCATION:Ichtuskerk\, Kerkstraat 49\, Wolvega\, 8471 CE\, Nederland
CATEGORIES:Kerkdienst
END:VEVENT
BEGIN:VEVENT
DTSTART;TZID=Europe/Amsterdam:20241224T230000
DTEND;TZID=Europe/Amsterdam:20241225T000000
DTSTAMP:20260422T140531
CREATED:20241123T180356Z
LAST-MODIFIED:20241123T180356Z
UID:1108-1735081200-1735084800@euphoniawolvega.nl
SUMMARY:Kerstnachtdienst Wolvega
DESCRIPTION:Het A-orkest zal de kerstnachtdienst in de Ichthuskerk opluisteren.
URL:https://euphoniawolvega.nl/agenda/kerstnachtdienst-wolvega/
LOCATION:Ichtuskerk\, Kerkstraat 49\, Wolvega\, 8471 CE\, Nederland
CATEGORIES:Kerkdienst
END:VEVENT
BEGIN:VEVENT
DTSTART;TZID=Europe/Amsterdam:20241224T213000
DTEND;TZID=Europe/Amsterdam:20241224T230000
DTSTAMP:20260422T140531
CREATED:20241123T180741Z
LAST-MODIFIED:20241123T180741Z
UID:1112-1735075800-1735081200@euphoniawolvega.nl
SUMMARY:Kerstnachtdienst Blesdijke
DESCRIPTION:Het B-orkest zal de kerstnachtdienst samen met Crescendo Steggerda muzikaal omlijsten.
URL:https://euphoniawolvega.nl/agenda/kerstnachtdienst-blesdijke-2/
LOCATION:Blesdijke kerk\, Markeweg 89\, Blesdijke\, Netherlands
CATEGORIES:Kerkdienst
END:VEVENT
BEGIN:VEVENT
DTSTART;TZID=Europe/Amsterdam:20241221T193000
DTEND;TZID=Europe/Amsterdam:20241221T213000
DTSTAMP:20260422T140531
CREATED:20241123T175729Z
LAST-MODIFIED:20241123T183111Z
UID:1103-1734809400-1734816600@euphoniawolvega.nl
SUMMARY:Kerst Sing-a-long
DESCRIPTION:
URL:https://euphoniawolvega.nl/agenda/kerst-sing-along/
LOCATION:Ichtuskerk\, Kerkstraat 49\, Wolvega\, 8471 CE\, Nederland
CATEGORIES:Concert
END:VEVENT
BEGIN:VEVENT
DTSTART;TZID=Europe/Amsterdam:20241215T130000
DTEND;TZID=Europe/Amsterdam:20241215T140000
DTSTAMP:20260422T140531
CREATED:20241123T175439Z
LAST-MODIFIED:20241203T200656Z
UID:1101-1734267600-1734271200@euphoniawolvega.nl
SUMMARY:Kerstwandeling (Lendekuier) in de Hoeve
DESCRIPTION:Ons B-orkest zal in de Hoeve zijn om de wandeling muzikaal op te luisteren. \nJAWIS\, de Lendekuier!\nOp zondag 15 december is et weet tied veur de Lendekuier. Een mooi ommegien zo eempies tussen Sundeklaos en de Kastdaegen. Een kuiertocht van ongeveer 6 km\, een verrassende route en onderweg – zoas jim van oons wend binnen – lekkere happies en draankies en ander vermaek. \nLoop ie ok mit?\nZollen wi’j wel hiel mooi vienen!\nHet is handig om van te voren te weten hoeveel mensen we kunnen verwachten. Geef je daarom op door op volgend e=mailadres te klikken jawisdehoeve@outlook.com.\nJe ontvangt dan een bevestiging met het verzoek de kaart(jes) alvast vooruit te betalen. \nNiet aangemeld en toch mee lopen? Geen probleem\, kom gewoon lekker naar ’t Hokkien. Wel graag gepast geld meenemen. \nOp 15 december kun je tussen 13.00 en 13.30 uur een startkaart halen in ’t Hokkien. Op vertoon van de startkaart zijn alle optredens en hapjes/drankjes onderweg gratis!\nStartkaart\nOuder dan 12 jaar >> € 7\,50\nJonger dan 12 jaar >> Gratis\nNog even ter informatie:\nStart tussen 13:00 uur e 13:30 uur bij ’t Hokkien (ook het einde van de route).\nDe (weer zeer verrassende) route voert grotendeels door de natuur en is niet handig voor wandelwagens e.d.\nWaterdichte wandelschoenen of laarzen worden aanbevolen.\nHonden zijn helaas niet toegestaan op (een deel van) de route\nNet als vorig jaar zijn er aan het eind van de tocht vogeltaarten te koop.
URL:https://euphoniawolvega.nl/agenda/kerstwandeling-lendekuier-in-de-hoeve/
CATEGORIES:Overig
END:VEVENT
BEGIN:VEVENT
DTSTART;TZID=Europe/Amsterdam:20241123T080000
DTEND;TZID=Europe/Amsterdam:20241123T170000
DTSTAMP:20260422T140531
CREATED:20241123T180220Z
LAST-MODIFIED:20241123T180220Z
UID:1105-1732348800-1732381200@euphoniawolvega.nl
SUMMARY:Kerstnachtdienst Blesdijke
DESCRIPTION:Samen met Crescendo Steggerda zal het B-orkest de kerstnachtdienst begeleiden.
URL:https://euphoniawolvega.nl/agenda/kerstnachtdienst-blesdijke/
LOCATION:Blesdijke kerk\, Markeweg 89\, Blesdijke\, Netherlands
CATEGORIES:Kerkdienst
END:VEVENT
BEGIN:VEVENT
DTSTART;TZID=Europe/Amsterdam:20241026T090000
DTEND;TZID=Europe/Amsterdam:20241026T130000
DTSTAMP:20260422T140531
CREATED:20240630T134845Z
LAST-MODIFIED:20240630T134845Z
UID:1062-1729933200-1729947600@euphoniawolvega.nl
SUMMARY:NBK
DESCRIPTION:Het A-orkest van Euphonia zal ook dit jaar weer deelnemen aan de Nederlandse Brassband Kampioenschappen.
URL:https://euphoniawolvega.nl/agenda/nbk/
LOCATION:Tivoli Vredenburg\, Vredenburgkade 11\, Utrecht\, Nederland
CATEGORIES:Concours
END:VEVENT
BEGIN:VEVENT
DTSTART;TZID=Europe/Amsterdam:20241019T193000
DTEND;TZID=Europe/Amsterdam:20241019T210000
DTSTAMP:20260422T140531
CREATED:20241005T080956Z
LAST-MODIFIED:20241005T080956Z
UID:1077-1729366200-1729371600@euphoniawolvega.nl
SUMMARY:Koffieconcert
DESCRIPTION:Op zaterdag 19 oktober om 19.30 uur verzorgt het B-orkest een gezellig koffieconcert. U bent van harte welkom in ons eigen Nootgebouw!
URL:https://euphoniawolvega.nl/agenda/koffieconcert/
LOCATION:Nootgebouw²\, Industrieweg 15J\, Wolvega\, 8471AD\, Nederland
CATEGORIES:Concert
END:VEVENT
BEGIN:VEVENT
DTSTART;TZID=Europe/Amsterdam:20240713T160000
DTEND;TZID=Europe/Amsterdam:20240713T193000
DTSTAMP:20260422T140531
CREATED:20240630T134527Z
LAST-MODIFIED:20240630T134527Z
UID:1060-1720886400-1720899000@euphoniawolvega.nl
SUMMARY:Seizoensafsluiting en buitenconcertje
DESCRIPTION:Tijdens de seizoensafsluiting bij Pannenkoekenrestaurant de Koppenjan in Jubbega zullen alle aanwezige leden samen ook een buitenconcertje verzorgen.
URL:https://euphoniawolvega.nl/agenda/seizoensafsluiting-en-buitenconcertje/
LOCATION:Pannenkoekenrestaurant De Koppenjan in Jubbega
CATEGORIES:Concert,Overig
END:VEVENT
BEGIN:VEVENT
DTSTART;TZID=Europe/Amsterdam:20240704T193000
DTEND;TZID=Europe/Amsterdam:20240704T210000
DTSTAMP:20260422T140531
CREATED:20240630T134052Z
LAST-MODIFIED:20240630T134052Z
UID:1057-1720121400-1720126800@euphoniawolvega.nl
SUMMARY:Zomeravondconcert
DESCRIPTION:
URL:https://euphoniawolvega.nl/agenda/zomeravondconcert/
LOCATION:Naast de Expert in Wolvega\, van Harenstraat 39-41\, Wolvega
CATEGORIES:Concert
END:VEVENT
BEGIN:VEVENT
DTSTART;TZID=Europe/Amsterdam:20240615T160000
DTEND;TZID=Europe/Amsterdam:20240615T190000
DTSTAMP:20260422T140531
CREATED:20240530T162228Z
LAST-MODIFIED:20240530T162228Z
UID:977-1718467200-1718478000@euphoniawolvega.nl
SUMMARY:Hamburgerconcert
DESCRIPTION:Euphonia organiseert: Hamburgerconcert! \nEen leuke middag met hamburger\, loten\, muziek van het B- en C-orkest en uiteraard veel gezelligheid. \nKom gezellig langs\, de inloop is tussen 16.00 en 19.00 uur.
URL:https://euphoniawolvega.nl/agenda/hamburgerconcert/
LOCATION:Nootgebouw²\, Industrieweg 15J\, Wolvega\, 8471AD\, Nederland
CATEGORIES:Concert,Overig
END:VEVENT
BEGIN:VEVENT
DTSTART;TZID=Europe/Amsterdam:20240427T200000
DTEND;TZID=Europe/Amsterdam:20240427T230000
DTSTAMP:20260422T140531
CREATED:20240401T180909Z
LAST-MODIFIED:20240401T200904Z
UID:918-1714248000-1714258800@euphoniawolvega.nl
SUMMARY:Oranjeconcert 2024
DESCRIPTION:Het jaarlijkse Oranjeconcert met dit jaar als gast Sharon Kips! \nToegangskaarten:\nAan de kassa: € 20\,- per stuk (incl. consumptie)\nJongeren met CJP-pas: €12\,50 per stuk \nSchakel JavaScript in je browser in om dit formulier in te vullen.Naam *VoornaamAchternaamE-mail *Aantal Kaarten\n\nUw keuze: 1\nEmail \nBestel
URL:https://euphoniawolvega.nl/agenda/oranjeconcert-2024/
LOCATION:De Steense\, Deken Vaasstraat 15\, Wolvega\, 8472AA\, Nederland
CATEGORIES:Concert
END:VEVENT
BEGIN:VEVENT
DTSTART;VALUE=DATE:20230427
DTEND;VALUE=DATE:20230428
DTSTAMP:20260422T140531
CREATED:20230319T110245Z
LAST-MODIFIED:20230427T172734Z
UID:779-1682553600-1682639999@euphoniawolvega.nl
SUMMARY:Oranjeconcert 2023
DESCRIPTION:Het jaarlijkse Oranjeconcert met dit jaar als gast Syb van der Ploeg! \nToegangskaarten:Aan de kassa: € 17\,50 per stukJongeren met CJP-pas: €7\,50 per stuk\n 
URL:https://euphoniawolvega.nl/agenda/oranjeconcert-2023/
LOCATION:De Steense\, Deken Vaasstraat 15\, Wolvega\, 8472AA\, Nederland
CATEGORIES:Concert
END:VEVENT
BEGIN:VEVENT
DTSTART;TZID=Europe/Amsterdam:20221217T193000
DTEND;TZID=Europe/Amsterdam:20221217T220000
DTSTAMP:20260422T140531
CREATED:20221125T175506Z
LAST-MODIFIED:20221201T080330Z
UID:741-1671305400-1671314400@euphoniawolvega.nl
SUMMARY:Kerstconcert
DESCRIPTION:
URL:https://euphoniawolvega.nl/agenda/kerstconcert-2/
LOCATION:Ichtuskerk\, Kerkstraat 49\, Wolvega\, 8471 CE\, Nederland
CATEGORIES:Concert
END:VEVENT
BEGIN:VEVENT
DTSTART;TZID=Europe/Amsterdam:20220427T200000
DTEND;TZID=Europe/Amsterdam:20220427T230000
DTSTAMP:20260422T140531
CREATED:20211103T205420Z
LAST-MODIFIED:20230403T082625Z
UID:568-1651089600-1651100400@euphoniawolvega.nl
SUMMARY:Oranjeconcert 2022
DESCRIPTION:Via het onderstaande formulier kunt u uw kaarten voor het Oranjeconcert reserveren. \nToegangskaarten:\nIn de voorverkoop: € 15\,00 per stuk\nAan de kassa: € 17\,50 per stuk \nSchakel JavaScript in je browser in om dit formulier in te vullen.Naam *VoornaamAchternaamE-mail *Aantal Kaarten\n\n\n\n	Uw keuze: 1\nNameBestel
URL:https://euphoniawolvega.nl/agenda/oranjeconcert-2022/
LOCATION:De Steense\, Deken Vaasstraat 15\, Wolvega\, 8472AA\, Nederland
CATEGORIES:Concert
END:VEVENT
BEGIN:VEVENT
DTSTART;TZID=Europe/Amsterdam:20220309T191500
DTEND;TZID=Europe/Amsterdam:20220309T203000
DTSTAMP:20260422T140531
CREATED:20211103T205252Z
LAST-MODIFIED:20211103T205252Z
UID:566-1646853300-1646857800@euphoniawolvega.nl
SUMMARY:Biddag
DESCRIPTION:
URL:https://euphoniawolvega.nl/agenda/biddag/
LOCATION:Theater op de hoogte\, Kerkstraat 7\, Wolvega\, 8471CD
CATEGORIES:Kerkdienst
END:VEVENT
BEGIN:VEVENT
DTSTART;TZID=Europe/Amsterdam:20220305T193000
DTEND;TZID=Europe/Amsterdam:20220305T220000
DTSTAMP:20260422T140531
CREATED:20211103T205143Z
LAST-MODIFIED:20211103T205143Z
UID:564-1646508600-1646517600@euphoniawolvega.nl
SUMMARY:Voorjaarsconcert
DESCRIPTION:
URL:https://euphoniawolvega.nl/agenda/voorjaarsconcert/
LOCATION:Nootgebouw²\, Industrieweg 15J\, Wolvega\, 8471AD\, Nederland
CATEGORIES:Concert
END:VEVENT
BEGIN:VEVENT
DTSTART;TZID=Europe/Amsterdam:20211219T140000
DTEND;TZID=Europe/Amsterdam:20211219T170000
DTSTAMP:20260422T140531
CREATED:20211103T205023Z
LAST-MODIFIED:20211103T205023Z
UID:561-1639922400-1639933200@euphoniawolvega.nl
SUMMARY:Volkskerstzangdienst
DESCRIPTION:
URL:https://euphoniawolvega.nl/agenda/volkskerstzangdienst/
LOCATION:Rooms Katholieke kerk\, Lycklamaweg 6\, Wolvega\, 8471JX\, Nederland
CATEGORIES:Kerkdienst
END:VEVENT
BEGIN:VEVENT
DTSTART;TZID=Europe/Amsterdam:20211218T180000
DTEND;TZID=Europe/Amsterdam:20211218T210000
DTSTAMP:20260422T140531
CREATED:20211103T204828Z
LAST-MODIFIED:20211103T204828Z
UID:559-1639850400-1639861200@euphoniawolvega.nl
SUMMARY:Kerstconcert
DESCRIPTION:
URL:https://euphoniawolvega.nl/agenda/kerstconcert/
LOCATION:Ichtuskerk\, Kerkstraat 49\, Wolvega\, 8471 CE\, Nederland
CATEGORIES:Concert
END:VEVENT
BEGIN:VEVENT
DTSTART;TZID=Europe/Amsterdam:20211120T130000
DTEND;TZID=Europe/Amsterdam:20211120T140000
DTSTAMP:20260422T140531
CREATED:20211103T204623Z
LAST-MODIFIED:20211103T204629Z
UID:555-1637413200-1637416800@euphoniawolvega.nl
SUMMARY:Sinterklaasintocht Haskerhorne
DESCRIPTION:
URL:https://euphoniawolvega.nl/agenda/sinterklaasintocht-haskerhorne/
LOCATION:Haskerhorne\, Haskerhorne\, Nederland
CATEGORIES:Overig
END:VEVENT
BEGIN:VEVENT
DTSTART;TZID=Europe/Amsterdam:20211106T193000
DTEND;TZID=Europe/Amsterdam:20211106T210000
DTSTAMP:20260422T140531
CREATED:20211103T204532Z
LAST-MODIFIED:20211103T204532Z
UID:553-1636227000-1636232400@euphoniawolvega.nl
SUMMARY:Najaarsconcert
DESCRIPTION:
URL:https://euphoniawolvega.nl/agenda/najaarsconcert/
LOCATION:Ichtuskerk\, Kerkstraat 49\, Wolvega\, 8471 CE\, Nederland
CATEGORIES:Concert
END:VEVENT
BEGIN:VEVENT
DTSTART;TZID=Europe/Amsterdam:20211103T190000
DTEND;TZID=Europe/Amsterdam:20211103T203000
DTSTAMP:20260422T140531
CREATED:20211103T204718Z
LAST-MODIFIED:20211103T204718Z
UID:557-1635966000-1635971400@euphoniawolvega.nl
SUMMARY:Dankdag
DESCRIPTION:
URL:https://euphoniawolvega.nl/agenda/dankdag/
LOCATION:Ichtuskerk\, Kerkstraat 49\, Wolvega\, 8471 CE\, Nederland
CATEGORIES:Kerkdienst
END:VEVENT
END:VCALENDAR