BEGIN:VCALENDAR
VERSION:2.0
PRODID:-//CMV Euphonia Wolvega - ECPv6.15.20//NONSGML v1.0//EN
CALSCALE:GREGORIAN
METHOD:PUBLISH
X-ORIGINAL-URL:https://euphoniawolvega.nl
X-WR-CALDESC:Evenementen voor CMV Euphonia Wolvega
REFRESH-INTERVAL;VALUE=DURATION:PT1H
X-Robots-Tag:noindex
X-PUBLISHED-TTL:PT1H
BEGIN:VTIMEZONE
TZID:Europe/Amsterdam
BEGIN:DAYLIGHT
TZOFFSETFROM:+0100
TZOFFSETTO:+0200
TZNAME:CEST
DTSTART:20200329T010000
END:DAYLIGHT
BEGIN:STANDARD
TZOFFSETFROM:+0200
TZOFFSETTO:+0100
TZNAME:CET
DTSTART:20201025T010000
END:STANDARD
BEGIN:DAYLIGHT
TZOFFSETFROM:+0100
TZOFFSETTO:+0200
TZNAME:CEST
DTSTART:20210328T010000
END:DAYLIGHT
BEGIN:STANDARD
TZOFFSETFROM:+0200
TZOFFSETTO:+0100
TZNAME:CET
DTSTART:20211031T010000
END:STANDARD
BEGIN:DAYLIGHT
TZOFFSETFROM:+0100
TZOFFSETTO:+0200
TZNAME:CEST
DTSTART:20220327T010000
END:DAYLIGHT
BEGIN:STANDARD
TZOFFSETFROM:+0200
TZOFFSETTO:+0100
TZNAME:CET
DTSTART:20221030T010000
END:STANDARD
BEGIN:DAYLIGHT
TZOFFSETFROM:+0100
TZOFFSETTO:+0200
TZNAME:CEST
DTSTART:20230326T010000
END:DAYLIGHT
BEGIN:STANDARD
TZOFFSETFROM:+0200
TZOFFSETTO:+0100
TZNAME:CET
DTSTART:20231029T010000
END:STANDARD
BEGIN:DAYLIGHT
TZOFFSETFROM:+0100
TZOFFSETTO:+0200
TZNAME:CEST
DTSTART:20240331T010000
END:DAYLIGHT
BEGIN:STANDARD
TZOFFSETFROM:+0200
TZOFFSETTO:+0100
TZNAME:CET
DTSTART:20241027T010000
END:STANDARD
END:VTIMEZONE
BEGIN:VEVENT
DTSTART;VALUE=DATE:20230427
DTEND;VALUE=DATE:20230428
DTSTAMP:20260422T165657
CREATED:20230319T110245Z
LAST-MODIFIED:20230427T172734Z
UID:779-1682553600-1682639999@euphoniawolvega.nl
SUMMARY:Oranjeconcert 2023
DESCRIPTION:Het jaarlijkse Oranjeconcert met dit jaar als gast Syb van der Ploeg! \nToegangskaarten:Aan de kassa: € 17\,50 per stukJongeren met CJP-pas: €7\,50 per stuk\n 
URL:https://euphoniawolvega.nl/agenda/oranjeconcert-2023/
LOCATION:De Steense\, Deken Vaasstraat 15\, Wolvega\, 8472AA\, Nederland
CATEGORIES:Concert
END:VEVENT
BEGIN:VEVENT
DTSTART;TZID=Europe/Amsterdam:20221217T193000
DTEND;TZID=Europe/Amsterdam:20221217T220000
DTSTAMP:20260422T165657
CREATED:20221125T175506Z
LAST-MODIFIED:20221201T080330Z
UID:741-1671305400-1671314400@euphoniawolvega.nl
SUMMARY:Kerstconcert
DESCRIPTION:
URL:https://euphoniawolvega.nl/agenda/kerstconcert-2/
LOCATION:Ichtuskerk\, Kerkstraat 49\, Wolvega\, 8471 CE\, Nederland
CATEGORIES:Concert
END:VEVENT
BEGIN:VEVENT
DTSTART;TZID=Europe/Amsterdam:20220427T200000
DTEND;TZID=Europe/Amsterdam:20220427T230000
DTSTAMP:20260422T165657
CREATED:20211103T205420Z
LAST-MODIFIED:20230403T082625Z
UID:568-1651089600-1651100400@euphoniawolvega.nl
SUMMARY:Oranjeconcert 2022
DESCRIPTION:Via het onderstaande formulier kunt u uw kaarten voor het Oranjeconcert reserveren. \nToegangskaarten:\nIn de voorverkoop: € 15\,00 per stuk\nAan de kassa: € 17\,50 per stuk \nSchakel JavaScript in je browser in om dit formulier in te vullen.Naam *VoornaamAchternaamE-mail *Aantal Kaarten\n\n\n\n	Uw keuze: 1\nMessageBestel
URL:https://euphoniawolvega.nl/agenda/oranjeconcert-2022/
LOCATION:De Steense\, Deken Vaasstraat 15\, Wolvega\, 8472AA\, Nederland
CATEGORIES:Concert
END:VEVENT
BEGIN:VEVENT
DTSTART;TZID=Europe/Amsterdam:20220309T191500
DTEND;TZID=Europe/Amsterdam:20220309T203000
DTSTAMP:20260422T165657
CREATED:20211103T205252Z
LAST-MODIFIED:20211103T205252Z
UID:566-1646853300-1646857800@euphoniawolvega.nl
SUMMARY:Biddag
DESCRIPTION:
URL:https://euphoniawolvega.nl/agenda/biddag/
LOCATION:Theater op de hoogte\, Kerkstraat 7\, Wolvega\, 8471CD
CATEGORIES:Kerkdienst
END:VEVENT
BEGIN:VEVENT
DTSTART;TZID=Europe/Amsterdam:20220305T193000
DTEND;TZID=Europe/Amsterdam:20220305T220000
DTSTAMP:20260422T165657
CREATED:20211103T205143Z
LAST-MODIFIED:20211103T205143Z
UID:564-1646508600-1646517600@euphoniawolvega.nl
SUMMARY:Voorjaarsconcert
DESCRIPTION:
URL:https://euphoniawolvega.nl/agenda/voorjaarsconcert/
LOCATION:Nootgebouw²\, Industrieweg 15J\, Wolvega\, 8471AD\, Nederland
CATEGORIES:Concert
END:VEVENT
BEGIN:VEVENT
DTSTART;TZID=Europe/Amsterdam:20211219T140000
DTEND;TZID=Europe/Amsterdam:20211219T170000
DTSTAMP:20260422T165657
CREATED:20211103T205023Z
LAST-MODIFIED:20211103T205023Z
UID:561-1639922400-1639933200@euphoniawolvega.nl
SUMMARY:Volkskerstzangdienst
DESCRIPTION:
URL:https://euphoniawolvega.nl/agenda/volkskerstzangdienst/
LOCATION:Rooms Katholieke kerk\, Lycklamaweg 6\, Wolvega\, 8471JX\, Nederland
CATEGORIES:Kerkdienst
END:VEVENT
BEGIN:VEVENT
DTSTART;TZID=Europe/Amsterdam:20211218T180000
DTEND;TZID=Europe/Amsterdam:20211218T210000
DTSTAMP:20260422T165657
CREATED:20211103T204828Z
LAST-MODIFIED:20211103T204828Z
UID:559-1639850400-1639861200@euphoniawolvega.nl
SUMMARY:Kerstconcert
DESCRIPTION:
URL:https://euphoniawolvega.nl/agenda/kerstconcert/
LOCATION:Ichtuskerk\, Kerkstraat 49\, Wolvega\, 8471 CE\, Nederland
CATEGORIES:Concert
END:VEVENT
BEGIN:VEVENT
DTSTART;TZID=Europe/Amsterdam:20211120T130000
DTEND;TZID=Europe/Amsterdam:20211120T140000
DTSTAMP:20260422T165657
CREATED:20211103T204623Z
LAST-MODIFIED:20211103T204629Z
UID:555-1637413200-1637416800@euphoniawolvega.nl
SUMMARY:Sinterklaasintocht Haskerhorne
DESCRIPTION:
URL:https://euphoniawolvega.nl/agenda/sinterklaasintocht-haskerhorne/
LOCATION:Haskerhorne\, Haskerhorne\, Nederland
CATEGORIES:Overig
END:VEVENT
BEGIN:VEVENT
DTSTART;TZID=Europe/Amsterdam:20211106T193000
DTEND;TZID=Europe/Amsterdam:20211106T210000
DTSTAMP:20260422T165657
CREATED:20211103T204532Z
LAST-MODIFIED:20211103T204532Z
UID:553-1636227000-1636232400@euphoniawolvega.nl
SUMMARY:Najaarsconcert
DESCRIPTION:
URL:https://euphoniawolvega.nl/agenda/najaarsconcert/
LOCATION:Ichtuskerk\, Kerkstraat 49\, Wolvega\, 8471 CE\, Nederland
CATEGORIES:Concert
END:VEVENT
BEGIN:VEVENT
DTSTART;TZID=Europe/Amsterdam:20211103T190000
DTEND;TZID=Europe/Amsterdam:20211103T203000
DTSTAMP:20260422T165657
CREATED:20211103T204718Z
LAST-MODIFIED:20211103T204718Z
UID:557-1635966000-1635971400@euphoniawolvega.nl
SUMMARY:Dankdag
DESCRIPTION:
URL:https://euphoniawolvega.nl/agenda/dankdag/
LOCATION:Ichtuskerk\, Kerkstraat 49\, Wolvega\, 8471 CE\, Nederland
CATEGORIES:Kerkdienst
END:VEVENT
BEGIN:VEVENT
DTSTART;TZID=Europe/Amsterdam:20210427T200000
DTEND;TZID=Europe/Amsterdam:20210427T210000
DTSTAMP:20260422T165657
CREATED:20210418T095939Z
LAST-MODIFIED:20210418T100009Z
UID:521-1619553600-1619557200@euphoniawolvega.nl
SUMMARY:Het Digitale Oranjeconcert
DESCRIPTION:Hoe u het digitale Oranjeconcert kunt bekijken? \nOp dinsdagavond 27 april komt om 20.00 uur een link op deze website (www.euphoniawolvega.nl) te staan. Via deze YouTube-link kunt u de film bekijken\, helemaal gratis! \nU gaat toch ook kijken?
URL:https://euphoniawolvega.nl/agenda/digitale-oranjeconcert/
CATEGORIES:Concert
END:VEVENT
END:VCALENDAR